BEGIN:VCALENDAR
VERSION:2.0
PRODID:-//https://archiv.soc.cas.cz///NONSGML kigkonsult.se iCalcreator 2.10.15//
METHOD:PUBLISH
BEGIN:VEVENT
UID:20260420T230354CEST-7246ocrNvN@https://archiv.soc.cas.cz/
DTSTAMP:20260420T210354Z
DESCRIPTION: \nSrdečně vás zveme na seminář pořádaný k příležitosti předsta
 vení prvních výsledků Českého panelového šetření středoškoláků (CZEPS)\, k
 teré je prováděno v rámci projektu\, který je realizován Sociologickým úst
 avem AV ČR a financován Grantovou agenturou ČR. Seminář proběhne v pondělí
  10. června 2024 od 9:30 do 12 hodin v Akademickém konferenčním centru (AK
 C)\, Husova 4a\, Praha 1 a přes online platformu Zoom.\nV rámci semináře b
 ude představena výzkumná zpráva z prvního ročníku CZEPS a prezentovány výs
 ledky výzkumu založené na odpovědích od více jak 22 tisících respondentů a
  respondentek z první vlny dotazníkového šetření mezi žáky a žákyněmi prvn
 ích ročníků 249 středních škol\, které byly sbírány v říjnu a listopadu 20
 23. Prezentovány a diskutovány budou především informace o wellbeingu\, vz
 tahu žáků a žákyň ke škole a výsledky testu kritického myšlení.\nNa seminá
 ři vystoupí členové výzkumného týmu ze Sociologického ústavu AV ČR Aleš Ku
 drnáč\, Markéta Spitzerová\, Radka Hanzlová\, Ivan Petrúšek a Katarína Asl
 an.\n \nProgram\n9:30 – 10:00      Představení dat 1. vlny Českého panelov
 ého šetření středoškoláků \n10:00 – 10:30    Osobní pohoda (wellbeing) \n1
 0:30 – 11:00    přestávka na kávu\n11:00 – 11:30    Volba školy a pocit so
 unáležitosti se školou\n11:30 – 12:00    Kritické myšlení  https://archiv.
 soc.cas.cz/en/education/archived-events/event/32-seminar-czeps
DTSTART:20240610T093000Z
DTEND:20240610T120000Z
LOCATION:HYBRIDNÍ FORMA - Akademické konferenční centrum (AKC)\, Husova 4a\
 , Praha 1  (Husova 352/4\, 110 00\, Staré Město\, Praha 1\, Praha\, Hlavní
  město Praha)
SUMMARY:Seminář CZEPS
URL:https://archiv.soc.cas.cz/en/education/archived-events/event/32-seminar
 -czeps
END:VEVENT
END:VCALENDAR
